BEGIN:VCALENDAR
VERSION:2.0
PRODID:-//Water Environment Association of Ontario - ECPv5.16.4//NONSGML v1.0//EN
CALSCALE:GREGORIAN
METHOD:PUBLISH
X-ORIGINAL-URL:https://weao.org
X-WR-CALDESC:Events for Water Environment Association of Ontario
REFRESH-INTERVAL;VALUE=DURATION:PT1H
X-Robots-Tag:noindex
X-PUBLISHED-TTL:PT1H
BEGIN:VTIMEZONE
TZID:America/Toronto
BEGIN:DAYLIGHT
TZOFFSETFROM:-0500
TZOFFSETTO:-0400
TZNAME:EDT
DTSTART:20250309T070000
END:DAYLIGHT
BEGIN:STANDARD
TZOFFSETFROM:-0400
TZOFFSETTO:-0500
TZNAME:EST
DTSTART:20251102T060000
END:STANDARD
END:VTIMEZONE
BEGIN:VEVENT
DTSTART;TZID=America/Toronto:20251010T080000
DTEND;TZID=America/Toronto:20251010T235900
DTSTAMP:20260420T110122
CREATED:20250827T201206Z
LAST-MODIFIED:20250827T201332Z
UID:9920-1760083200-1760140740@weao.org
SUMMARY:Student Design Competition Submission Deadline
DESCRIPTION:For More Details\, Click Here
URL:https://weao.org/event/student-design-competition-submission-deadline/
CATEGORIES:WEAO Event
END:VEVENT
BEGIN:VEVENT
DTSTART;TZID=America/Toronto:20251015T083000
DTEND;TZID=America/Toronto:20251015T153000
DTSTAMP:20260420T110122
CREATED:20250224T194841Z
LAST-MODIFIED:20250825T135030Z
UID:9019-1760517000-1760542200@weao.org
SUMMARY:Collections Seminar
DESCRIPTION:SAVE THE DATE! \n\n\n\n\nFor More Details\, Click Here
URL:https://weao.org/event/collections-seminar-4/
LOCATION:Mississauga Grand Banquet Hall\, 35 Brunel Road\, Mississauga\, ON\, L4Z 3E8\, Canada
CATEGORIES:WEAO Event
END:VEVENT
BEGIN:VEVENT
DTSTART;TZID=America/Toronto:20251029T090000
DTEND;TZID=America/Toronto:20251029T160000
DTSTAMP:20260420T110122
CREATED:20241213T155402Z
LAST-MODIFIED:20250912T183809Z
UID:8461-1761728400-1761753600@weao.org
SUMMARY:Wastewater Treatment & Technology Seminar
DESCRIPTION:SAVE THE DATE! \n\n\n\n\nFor More Details\, Click Here
URL:https://weao.org/event/wastewater-treatment-technology-seminar-3/
LOCATION:Paradise Banquet Hall\, 7601 Jane Street\, Vaughan\, ON\, L4K 1X2\, Canada
CATEGORIES:WEAO Event
END:VEVENT
BEGIN:VEVENT
DTSTART;TZID=America/Toronto:20251031T080000
DTEND;TZID=America/Toronto:20251031T170000
DTSTAMP:20260420T110122
CREATED:20250827T200634Z
LAST-MODIFIED:20250827T200635Z
UID:9915-1761897600-1761930000@weao.org
SUMMARY:WEAO Scholarship Submission Deadline
DESCRIPTION:For More Details\, Click Here
URL:https://weao.org/event/weao-scholarship-submission-deadline/
CATEGORIES:WEAO Event
END:VEVENT
BEGIN:VEVENT
DTSTART;TZID=America/Toronto:20251031T080000
DTEND;TZID=America/Toronto:20251031T235900
DTSTAMP:20260420T110122
CREATED:20250827T200903Z
LAST-MODIFIED:20250827T200913Z
UID:9917-1761897600-1761955140@weao.org
SUMMARY:Kelman Scholarship Submission Deadline
DESCRIPTION:For More Details\, Click Here
URL:https://weao.org/event/kelman-scholarship-submission-deadline/
CATEGORIES:WEAO Event
END:VEVENT
END:VCALENDAR