BEGIN:VCALENDAR
VERSION:2.0
PRODID:-//Water Environment Association of Ontario - ECPv5.16.4//NONSGML v1.0//EN
CALSCALE:GREGORIAN
METHOD:PUBLISH
X-WR-CALNAME:Water Environment Association of Ontario
X-ORIGINAL-URL:https://weao.org
X-WR-CALDESC:Events for Water Environment Association of Ontario
REFRESH-INTERVAL;VALUE=DURATION:PT1H
X-Robots-Tag:noindex
X-PUBLISHED-TTL:PT1H
BEGIN:VTIMEZONE
TZID:America/Toronto
BEGIN:DAYLIGHT
TZOFFSETFROM:-0500
TZOFFSETTO:-0400
TZNAME:EDT
DTSTART:20240310T070000
END:DAYLIGHT
BEGIN:STANDARD
TZOFFSETFROM:-0400
TZOFFSETTO:-0500
TZNAME:EST
DTSTART:20241103T060000
END:STANDARD
END:VTIMEZONE
BEGIN:VEVENT
DTSTART;TZID=America/Toronto:20241205T180000
DTEND;TZID=America/Toronto:20241205T220000
DTSTAMP:20260420T054905
CREATED:20241010T172115Z
LAST-MODIFIED:20241106T150810Z
UID:8267-1733421600-1733436000@weao.org
SUMMARY:YP WEAO & OWWA Holiday Bash
DESCRIPTION:Public House Social \n\n\n\n\nFor Details\, click here
URL:https://weao.org/event/holiday-bash-3/
CATEGORIES:WEAO Event
END:VEVENT
END:VCALENDAR