BEGIN:VCALENDAR
VERSION:2.0
PRODID:-//Water Environment Association of Ontario - ECPv5.16.4//NONSGML v1.0//EN
CALSCALE:GREGORIAN
METHOD:PUBLISH
X-ORIGINAL-URL:https://weao.org
X-WR-CALDESC:Events for Water Environment Association of Ontario
REFRESH-INTERVAL;VALUE=DURATION:PT1H
X-Robots-Tag:noindex
X-PUBLISHED-TTL:PT1H
BEGIN:VTIMEZONE
TZID:America/Toronto
BEGIN:DAYLIGHT
TZOFFSETFROM:-0500
TZOFFSETTO:-0400
TZNAME:EDT
DTSTART:20250309T070000
END:DAYLIGHT
BEGIN:STANDARD
TZOFFSETFROM:-0400
TZOFFSETTO:-0500
TZNAME:EST
DTSTART:20251102T060000
END:STANDARD
END:VTIMEZONE
BEGIN:VEVENT
DTSTART;TZID=America/Toronto:20251010T080000
DTEND;TZID=America/Toronto:20251010T235900
DTSTAMP:20260420T134404
CREATED:20250827T201206Z
LAST-MODIFIED:20250827T201332Z
UID:9920-1760083200-1760140740@weao.org
SUMMARY:Student Design Competition Submission Deadline
DESCRIPTION:For More Details\, Click Here
URL:https://weao.org/event/student-design-competition-submission-deadline/
CATEGORIES:WEAO Event
END:VEVENT
END:VCALENDAR