BEGIN:VCALENDAR
VERSION:2.0
PRODID:-//Water Environment Association of Ontario - ECPv5.16.4//NONSGML v1.0//EN
CALSCALE:GREGORIAN
METHOD:PUBLISH
X-ORIGINAL-URL:https://weao.org
X-WR-CALDESC:Events for Water Environment Association of Ontario
REFRESH-INTERVAL;VALUE=DURATION:PT1H
X-Robots-Tag:noindex
X-PUBLISHED-TTL:PT1H
BEGIN:VTIMEZONE
TZID:America/Toronto
BEGIN:DAYLIGHT
TZOFFSETFROM:-0500
TZOFFSETTO:-0400
TZNAME:EDT
DTSTART:20250309T070000
END:DAYLIGHT
BEGIN:STANDARD
TZOFFSETFROM:-0400
TZOFFSETTO:-0500
TZNAME:EST
DTSTART:20251102T060000
END:STANDARD
END:VTIMEZONE
BEGIN:VEVENT
DTSTART;TZID=America/Toronto:20251113T080000
DTEND;TZID=America/Toronto:20251113T150500
DTSTAMP:20260420T110342
CREATED:20250819T173713Z
LAST-MODIFIED:20251009T152230Z
UID:9821-1763020800-1763046300@weao.org
SUMMARY:WEAO/OWWA Climate Change Seminar
DESCRIPTION:Paradise Banquet Hall \n\n\n\nSAVE THE DATE! \n\n\n\n\nFor More Details\, Click Here
URL:https://weao.org/event/climate-change-seminar-2/
LOCATION:Paradise Banquet Hall\, 7601 Jane Street\, Vaughan\, ON\, L4K 1X2\, Canada
CATEGORIES:WEAO Event
END:VEVENT
END:VCALENDAR