BEGIN:VCALENDAR
VERSION:2.0
PRODID:-//Water Environment Association of Ontario - ECPv5.16.4//NONSGML v1.0//EN
CALSCALE:GREGORIAN
METHOD:PUBLISH
X-ORIGINAL-URL:https://weao.org
X-WR-CALDESC:Events for Water Environment Association of Ontario
REFRESH-INTERVAL;VALUE=DURATION:PT1H
X-Robots-Tag:noindex
X-PUBLISHED-TTL:PT1H
BEGIN:VTIMEZONE
TZID:America/Toronto
BEGIN:DAYLIGHT
TZOFFSETFROM:-0500
TZOFFSETTO:-0400
TZNAME:EDT
DTSTART:20250309T070000
END:DAYLIGHT
BEGIN:STANDARD
TZOFFSETFROM:-0400
TZOFFSETTO:-0500
TZNAME:EST
DTSTART:20251102T060000
END:STANDARD
BEGIN:DAYLIGHT
TZOFFSETFROM:-0500
TZOFFSETTO:-0400
TZNAME:EDT
DTSTART:20260308T070000
END:DAYLIGHT
BEGIN:STANDARD
TZOFFSETFROM:-0400
TZOFFSETTO:-0500
TZNAME:EST
DTSTART:20261101T060000
END:STANDARD
END:VTIMEZONE
BEGIN:VEVENT
DTSTART;TZID=America/Toronto:20251224T080000
DTEND;TZID=America/Toronto:20260102T170000
DTSTAMP:20260420T094514
CREATED:20251212T181132Z
LAST-MODIFIED:20251212T181626Z
UID:10263-1766563200-1767373200@weao.org
SUMMARY:WEAO Office Closed for the Holidays
DESCRIPTION:Happy Holidays!
URL:https://weao.org/event/weao-office-closed-for-the-holidays/
CATEGORIES:WEAO Event
END:VEVENT
END:VCALENDAR