BEGIN:VCALENDAR
VERSION:2.0
PRODID:-//Water Environment Association of Ontario - ECPv5.16.4//NONSGML v1.0//EN
CALSCALE:GREGORIAN
METHOD:PUBLISH
X-WR-CALNAME:Water Environment Association of Ontario
X-ORIGINAL-URL:https://weao.org
X-WR-CALDESC:Events for Water Environment Association of Ontario
REFRESH-INTERVAL;VALUE=DURATION:PT1H
X-Robots-Tag:noindex
X-PUBLISHED-TTL:PT1H
BEGIN:VTIMEZONE
TZID:America/Toronto
BEGIN:DAYLIGHT
TZOFFSETFROM:-0500
TZOFFSETTO:-0400
TZNAME:EDT
DTSTART:20260308T070000
END:DAYLIGHT
BEGIN:STANDARD
TZOFFSETFROM:-0400
TZOFFSETTO:-0500
TZNAME:EST
DTSTART:20261101T060000
END:STANDARD
END:VTIMEZONE
BEGIN:VEVENT
DTSTART;TZID=America/Toronto:20260522T100000
DTEND;TZID=America/Toronto:20260522T120000
DTSTAMP:20260425T120836
CREATED:20260424T184753Z
LAST-MODIFIED:20260424T184800Z
UID:10808-1779444000-1779451200@weao.org
SUMMARY:G.E. Booth YP Plant Tour
DESCRIPTION:For More Details\, Click Here
URL:https://weao.org/event/g-e-booth-yp-plant-tour/
CATEGORIES:WEAO Event
END:VEVENT
BEGIN:VEVENT
DTSTART;TZID=America/Toronto:20261022T080000
DTEND;TZID=America/Toronto:20261022T160000
DTSTAMP:20260425T120836
CREATED:20260226T213942Z
LAST-MODIFIED:20260226T213948Z
UID:10633-1792656000-1792684800@weao.org
SUMMARY:Collections Seminar
DESCRIPTION:SAVE THE DATE!
URL:https://weao.org/event/collections-seminar-5/
CATEGORIES:WEAO Event
END:VEVENT
END:VCALENDAR